BEGIN:VCALENDAR
VERSION:2.0
PRODID:-//85.13.139.124//NONSGML kigkonsult.se iCalcreator 2.20//
CALSCALE:GREGORIAN
METHOD:PUBLISH
X-WR-TIMEZONE:Europe/Berlin
BEGIN:VEVENT
UID:event250@Bayerischer Wald-Verein, Sektion Freyung
DTSTAMP:20260422T115437Z
CATEGORIES:Jahresprogramm
DESCRIPTION:Wanderung Rund um den Olsina-See  (Langenbrucker Teich) CZ \nKa
 tegorie: Jahresprogramm\nICS-Link: https://waldverein-freyung.de/index.php
 ?option=com_jem&view=event&id=250:wanderung-rund-um-den-olsina-see-langenb
 rucker-teich-cz\n
DTSTART;TZID=Europe/Berlin:20220611T100000
DTEND;TZID=Europe/Berlin:20220611T100000
SUMMARY:Wanderung Rund um den Olsina-See  (Langenbrucker Teich) CZ 
URL:https://waldverein-freyung.de/index.php?option=com_jem&view=event&id=25
 0:wanderung-rund-um-den-olsina-see-langenbrucker-teich-cz
END:VEVENT
END:VCALENDAR
