BEGIN:VCALENDAR
VERSION:2.0
PRODID:-//85.13.139.124//NONSGML kigkonsult.se iCalcreator 2.20//
CALSCALE:GREGORIAN
METHOD:PUBLISH
X-WR-TIMEZONE:Europe/Berlin
BEGIN:VEVENT
UID:event26@Bayerischer Wald-Verein, Sektion Freyung
DTSTAMP:20260424T113833Z
CATEGORIES:Jahresprogramm
DESCRIPTION:Kultur- und Frühlingsfahrt\nKategorie: Jahresprogramm\nICS-Link
 : https://waldverein-freyung.de/index.php?option=com_jem&view=event&id=26:
 kultur-und-fruehlingsfahrt\n
DTSTART;TZID=Europe/Berlin:20160424T074500
DTEND;TZID=Europe/Berlin:20160424T074500
LOCATION:Wasserburg\,Wasserburg am Inn
SUMMARY:Kultur- und Frühlingsfahrt
URL:https://waldverein-freyung.de/index.php?option=com_jem&view=event&id=26
 :kultur-und-fruehlingsfahrt
END:VEVENT
END:VCALENDAR
