BEGIN:VCALENDAR
VERSION:2.0
PRODID:-//85.13.139.124//NONSGML kigkonsult.se iCalcreator 2.20//
CALSCALE:GREGORIAN
METHOD:PUBLISH
X-WR-TIMEZONE:Europe/Berlin
BEGIN:VEVENT
UID:event266@Bayerischer Wald-Verein, Sektion Freyung
DTSTAMP:20260422T105315Z
CATEGORIES:Jahresprogramm
DESCRIPTION:Herbstwanderung nach Tschechien\nKategorie: Jahresprogramm\nICS
 -Link: https://waldverein-freyung.de/index.php?option=com_jem&view=event&i
 d=266:herbstwanderung-nach-tschechien\n
DTSTART;TZID=Europe/Berlin:20221001T090000
DTEND;TZID=Europe/Berlin:20221001T090000
SUMMARY:Herbstwanderung nach Tschechien
URL:https://waldverein-freyung.de/index.php?option=com_jem&view=event&id=26
 6:herbstwanderung-nach-tschechien
END:VEVENT
END:VCALENDAR
