BEGIN:VCALENDAR
VERSION:2.0
PRODID:-//85.13.139.124//NONSGML kigkonsult.se iCalcreator 2.20//
CALSCALE:GREGORIAN
METHOD:PUBLISH
X-WR-TIMEZONE:Europe/Berlin
BEGIN:VEVENT
UID:event272@Bayerischer Wald-Verein, Sektion Freyung
DTSTAMP:20260420T115753Z
CATEGORIES:Jahresprogramm
DESCRIPTION:Adventfeier\nKategorie: Jahresprogramm\nICS-Link: https://waldv
 erein-freyung.de/index.php?option=com_jem&view=event&id=272:adventfeier\n
DTSTART;TZID=Europe/Berlin:20221126T180000
DTEND;TZID=Europe/Berlin:20221126T180000
SUMMARY:Adventfeier
URL:https://waldverein-freyung.de/index.php?option=com_jem&view=event&id=27
 2:adventfeier
END:VEVENT
END:VCALENDAR
