BEGIN:VCALENDAR
VERSION:2.0
PRODID:-//85.13.139.124//NONSGML kigkonsult.se iCalcreator 2.20//
CALSCALE:GREGORIAN
METHOD:PUBLISH
X-WR-TIMEZONE:Europe/Berlin
BEGIN:VEVENT
UID:event28@Bayerischer Wald-Verein, Sektion Freyung
DTSTAMP:20260424T112832Z
CATEGORIES:Jahresprogramm
DESCRIPTION:Wegscheider Land\nKategorie: Jahresprogramm\nICS-Link: https://
 waldverein-freyung.de/index.php?option=com_jem&view=event&id=28:wegscheide
 r-land\n
DTSTART;TZID=Europe/Berlin:20160522T130000
DTEND;TZID=Europe/Berlin:20160522T130000
LOCATION:Blutwurzhüttn\,Obernstein 10\,94139 Breitenberg
SUMMARY:Wegscheider Land
URL:https://waldverein-freyung.de/index.php?option=com_jem&view=event&id=28
 :wegscheider-land
END:VEVENT
END:VCALENDAR
