BEGIN:VCALENDAR
VERSION:2.0
PRODID:-//85.13.139.124//NONSGML kigkonsult.se iCalcreator 2.20//
CALSCALE:GREGORIAN
METHOD:PUBLISH
X-WR-TIMEZONE:Europe/Berlin
BEGIN:VEVENT
UID:event280@Bayerischer Wald-Verein, Sektion Freyung
DTSTAMP:20260420T155533Z
CATEGORIES:Jahresprogramm
DESCRIPTION:Kultur- und Frühlingsfahrt mit dem Bus nach Falkenberg/Opf.\nKa
 tegorie: Jahresprogramm\nICS-Link: https://waldverein-freyung.de/index.php
 ?option=com_jem&view=event&id=280:kultur-und-fruehlingsfahrt-mit-dem-bus-n
 ach-falkenberg-opf\n
DTSTART;TZID=Europe/Berlin:20220424T080000
DTEND;TZID=Europe/Berlin:20220424T080000
SUMMARY:Kultur- und Frühlingsfahrt mit dem Bus nach Falkenberg/Opf.
URL:https://waldverein-freyung.de/index.php?option=com_jem&view=event&id=28
 0:kultur-und-fruehlingsfahrt-mit-dem-bus-nach-falkenberg-opf
END:VEVENT
END:VCALENDAR
