BEGIN:VCALENDAR
VERSION:2.0
PRODID:-//85.13.139.124//NONSGML kigkonsult.se iCalcreator 2.20//
CALSCALE:GREGORIAN
METHOD:PUBLISH
X-WR-TIMEZONE:Europe/Berlin
BEGIN:VEVENT
UID:event287@Bayerischer Wald-Verein, Sektion Freyung
DTSTAMP:20260420T103225Z
CATEGORIES:Jahresprogramm
DESCRIPTION:Wanderung Hofkirchen im Mühlviertel (A)\nKategorie: Jahresprogr
 amm\nICS-Link: https://waldverein-freyung.de/index.php?option=com_jem&view
 =event&id=287:wanderung-hofkirchen-im-muehlviertel-a\n
DTSTART;TZID=Europe/Berlin:20240420T100000
DTEND;TZID=Europe/Berlin:20240420T100000
SUMMARY:Wanderung Hofkirchen im Mühlviertel (A)
URL:https://waldverein-freyung.de/index.php?option=com_jem&view=event&id=28
 7:wanderung-hofkirchen-im-muehlviertel-a
END:VEVENT
END:VCALENDAR
