BEGIN:VCALENDAR
VERSION:2.0
PRODID:-//85.13.139.124//NONSGML kigkonsult.se iCalcreator 2.20//
CALSCALE:GREGORIAN
METHOD:PUBLISH
X-WR-TIMEZONE:Europe/Berlin
BEGIN:VEVENT
UID:event29@Bayerischer Wald-Verein, Sektion Freyung
DTSTAMP:20260424T112832Z
CATEGORIES:Jahresprogramm
DESCRIPTION:Hennenkobel\nKategorie: Jahresprogramm\nICS-Link: https://waldv
 erein-freyung.de/index.php?option=com_jem&view=event&id=29:hennenkobel\n
DTSTART;TZID=Europe/Berlin:20160604T100000
DTEND;TZID=Europe/Berlin:20160604T100000
LOCATION:Hennenkobel\,94227 Zwiesel
SUMMARY:Hennenkobel
URL:https://waldverein-freyung.de/index.php?option=com_jem&view=event&id=29
 :hennenkobel
END:VEVENT
END:VCALENDAR
