BEGIN:VCALENDAR
VERSION:2.0
PRODID:-//85.13.139.124//NONSGML kigkonsult.se iCalcreator 2.20//
CALSCALE:GREGORIAN
METHOD:PUBLISH
X-WR-TIMEZONE:Europe/Berlin
BEGIN:VEVENT
UID:event30@Bayerischer Wald-Verein, Sektion Freyung
DTSTAMP:20260424T113649Z
CATEGORIES:Jahresprogramm
DESCRIPTION:Bayerwaldtage in Straubing\nKategorie: Jahresprogramm\nICS-Link
 : https://waldverein-freyung.de/index.php?option=com_jem&view=event&id=30:
 bayerwaldtage-in-straubing\n
DTSTART;VALUE=DATE:20160611
DTEND;VALUE=DATE:20160613
SUMMARY:Bayerwaldtage in Straubing
URL:https://waldverein-freyung.de/index.php?option=com_jem&view=event&id=30
 :bayerwaldtage-in-straubing
END:VEVENT
END:VCALENDAR
