BEGIN:VCALENDAR
VERSION:2.0
PRODID:-//85.13.139.124//NONSGML kigkonsult.se iCalcreator 2.20//
CALSCALE:GREGORIAN
METHOD:PUBLISH
X-WR-TIMEZONE:Europe/Berlin
BEGIN:VEVENT
UID:event300@Bayerischer Wald-Verein, Sektion Freyung
DTSTAMP:20260420T102236Z
CATEGORIES:Jahresprogramm
DESCRIPTION:Waldfest in Schwendreut\nKategorie: Jahresprogramm\nICS-Link: h
 ttps://waldverein-freyung.de/index.php?option=com_jem&view=event&id=300:wa
 ldfest-in-schwendreut\n
DTSTART;TZID=Europe/Berlin:20240728T093000
DTEND;TZID=Europe/Berlin:20240728T093000
SUMMARY:Waldfest in Schwendreut
URL:https://waldverein-freyung.de/index.php?option=com_jem&view=event&id=30
 0:waldfest-in-schwendreut
END:VEVENT
END:VCALENDAR
