BEGIN:VCALENDAR
VERSION:2.0
PRODID:-//85.13.139.124//NONSGML kigkonsult.se iCalcreator 2.20//
CALSCALE:GREGORIAN
METHOD:PUBLISH
X-WR-TIMEZONE:Europe/Berlin
BEGIN:VEVENT
UID:event302@Bayerischer Wald-Verein, Sektion Freyung
DTSTAMP:20260420T102236Z
CATEGORIES:Jahresprogramm
DESCRIPTION:Radeln oder Schifffahrt oder Wandern\nKategorie: Jahresprogramm
 \nICS-Link: https://waldverein-freyung.de/index.php?option=com_jem&view=ev
 ent&id=302:radeln-oder-schifffahrt-oder-wandern\n
DTSTART;TZID=Europe/Berlin:20240804T070000
DTEND;TZID=Europe/Berlin:20240804T070000
SUMMARY:Radeln oder Schifffahrt oder Wandern
URL:https://waldverein-freyung.de/index.php?option=com_jem&view=event&id=30
 2:radeln-oder-schifffahrt-oder-wandern
END:VEVENT
END:VCALENDAR
