BEGIN:VCALENDAR
VERSION:2.0
PRODID:-//85.13.139.124//NONSGML kigkonsult.se iCalcreator 2.20//
CALSCALE:GREGORIAN
METHOD:PUBLISH
X-WR-TIMEZONE:Europe/Berlin
BEGIN:VEVENT
UID:event311@Bayerischer Wald-Verein, Sektion Freyung
DTSTAMP:20260420T084324Z
CATEGORIES:Jahresprogramm
DESCRIPTION:Wanderung Grenzsteig\nKategorie: Jahresprogramm\nICS-Link: http
 s://waldverein-freyung.de/index.php?option=com_jem&view=event&id=311:wande
 rung-grenzsteig\n
DTSTART;TZID=Europe/Berlin:20241012T093000
DTEND;TZID=Europe/Berlin:20241012T093000
SUMMARY:Wanderung Grenzsteig
URL:https://waldverein-freyung.de/index.php?option=com_jem&view=event&id=31
 1:wanderung-grenzsteig
END:VEVENT
END:VCALENDAR
