BEGIN:VCALENDAR
VERSION:2.0
PRODID:-//85.13.139.124//NONSGML kigkonsult.se iCalcreator 2.20//
CALSCALE:GREGORIAN
METHOD:PUBLISH
X-WR-TIMEZONE:Europe/Berlin
BEGIN:VEVENT
UID:event32@Bayerischer Wald-Verein, Sektion Freyung
DTSTAMP:20260424T112713Z
CATEGORIES:Jahresprogramm
DESCRIPTION:Schärding (A)\nKategorie: Jahresprogramm\nICS-Link: https://wal
 dverein-freyung.de/index.php?option=com_jem&view=event&id=32:schaerding-a
 \n
DTSTART;TZID=Europe/Berlin:20160702T110000
DTEND;TZID=Europe/Berlin:20160702T110000
LOCATION:Schärding\,Schärding
SUMMARY:Schärding (A)
URL:https://waldverein-freyung.de/index.php?option=com_jem&view=event&id=32
 :schaerding-a
END:VEVENT
END:VCALENDAR
