BEGIN:VCALENDAR
VERSION:2.0
PRODID:-//85.13.139.124//NONSGML kigkonsult.se iCalcreator 2.20//
CALSCALE:GREGORIAN
METHOD:PUBLISH
X-WR-TIMEZONE:Europe/Berlin
BEGIN:VEVENT
UID:event335@Bayerischer Wald-Verein, Sektion Freyung
DTSTAMP:20260420T102754Z
CATEGORIES:Jahresprogramm
DESCRIPTION:Volksfestaufzug\nKategorie: Jahresprogramm\nICS-Link: https://w
 aldverein-freyung.de/index.php?option=com_jem&view=event&id=335:volksfesta
 ufzug\n
DTSTART;TZID=Europe/Berlin:20250627T163000
DTEND;TZID=Europe/Berlin:20250627T163000
SUMMARY:Volksfestaufzug
URL:https://waldverein-freyung.de/index.php?option=com_jem&view=event&id=33
 5:volksfestaufzug
END:VEVENT
END:VCALENDAR
