BEGIN:VCALENDAR
VERSION:2.0
PRODID:-//85.13.139.124//NONSGML kigkonsult.se iCalcreator 2.20//
CALSCALE:GREGORIAN
METHOD:PUBLISH
X-WR-TIMEZONE:Europe/Berlin
BEGIN:VEVENT
UID:event34@Bayerischer Wald-Verein, Sektion Freyung
DTSTAMP:20260424T095919Z
CATEGORIES:Jahresprogramm
DESCRIPTION:Heimatfest in Mauth\nKategorie: Jahresprogramm\nICS-Link: https
 ://waldverein-freyung.de/index.php?option=com_jem&view=event&id=34:heimatf
 est-in-mauth\n
DTSTART;TZID=Europe/Berlin:20160722T150000
DTEND;TZID=Europe/Berlin:20160724T150000
LOCATION:Mauth\,Mauth
SUMMARY:Heimatfest in Mauth
URL:https://waldverein-freyung.de/index.php?option=com_jem&view=event&id=34
 :heimatfest-in-mauth
END:VEVENT
END:VCALENDAR
