BEGIN:VCALENDAR
VERSION:2.0
PRODID:-//85.13.139.124//NONSGML kigkonsult.se iCalcreator 2.20//
CALSCALE:GREGORIAN
METHOD:PUBLISH
X-WR-TIMEZONE:Europe/Berlin
BEGIN:VEVENT
UID:event360@Bayerischer Wald-Verein, Sektion Freyung
DTSTAMP:20260422T132504Z
CATEGORIES:Jahresprogramm
DESCRIPTION:Zwei-Tages-Tour nach Windischgarsten\, OÖ\nKategorie: Jahrespro
 gramm\nICS-Link: https://waldverein-freyung.de/index.php?option=com_jem&vi
 ew=event&id=360:zwei-tages-tour-nach-windischgarsten-ooe\n
DTSTART;VALUE=DATE:20250906
DTEND;VALUE=DATE:20250908
SUMMARY:Zwei-Tages-Tour nach Windischgarsten\, OÖ
URL:https://waldverein-freyung.de/index.php?option=com_jem&view=event&id=36
 0:zwei-tages-tour-nach-windischgarsten-ooe
END:VEVENT
END:VCALENDAR
