BEGIN:VCALENDAR
VERSION:2.0
PRODID:-//85.13.139.124//NONSGML kigkonsult.se iCalcreator 2.20//
CALSCALE:GREGORIAN
METHOD:PUBLISH
X-WR-TIMEZONE:Europe/Berlin
BEGIN:VEVENT
UID:event369@Bayerischer Wald-Verein, Sektion Freyung
DTSTAMP:20260420T101743Z
CATEGORIES:Jahresprogramm
DESCRIPTION:21. Februar 2026\, Samstag: Winterwanderung zum Falkenstein\nKa
 tegorie: Jahresprogramm\nICS-Link: https://waldverein-freyung.de/index.php
 ?option=com_jem&view=event&id=369:21-februar-2026-samstag-winterwanderung-
 zum-falkenstein\n
DTSTART;TZID=Europe/Berlin:20260221T090000
DTEND;TZID=Europe/Berlin:20260221T090000
SUMMARY:21. Februar 2026\, Samstag: Winterwanderung zum Falkenstein
URL:https://waldverein-freyung.de/index.php?option=com_jem&view=event&id=36
 9:21-februar-2026-samstag-winterwanderung-zum-falkenstein
END:VEVENT
END:VCALENDAR
