BEGIN:VCALENDAR
VERSION:2.0
PRODID:-//85.13.139.124//NONSGML kigkonsult.se iCalcreator 2.20//
CALSCALE:GREGORIAN
METHOD:PUBLISH
X-WR-TIMEZONE:Europe/Berlin
BEGIN:VEVENT
UID:event38@Bayerischer Wald-Verein, Sektion Freyung
DTSTAMP:20260420T132622Z
CATEGORIES:Jahresprogramm
DESCRIPTION:Arberkirchweih\nKategorie: Jahresprogramm\nICS-Link: https://wa
 ldverein-freyung.de/index.php?option=com_jem&view=event&id=38:arberkirchwe
 ih\n
DTSTART;VALUE=DATE:20160821
DTEND;VALUE=DATE:20160822
SUMMARY:Arberkirchweih
URL:https://waldverein-freyung.de/index.php?option=com_jem&view=event&id=38
 :arberkirchweih
END:VEVENT
END:VCALENDAR
