BEGIN:VCALENDAR
VERSION:2.0
PRODID:-//85.13.139.124//NONSGML kigkonsult.se iCalcreator 2.20//
CALSCALE:GREGORIAN
METHOD:PUBLISH
X-WR-TIMEZONE:Europe/Berlin
BEGIN:VEVENT
UID:event40@Bayerischer Wald-Verein, Sektion Freyung
DTSTAMP:20260420T134341Z
CATEGORIES:Jahresprogramm
DESCRIPTION:3- Tages-Fahrt in die Wachau (A)\nKategorie: Jahresprogramm\nIC
 S-Link: https://waldverein-freyung.de/index.php?option=com_jem&view=event&
 id=40:3-tages-fahrt-in-die-wachau-a\n
DTSTART;TZID=Europe/Berlin:20160909T063000
DTEND;TZID=Europe/Berlin:20160911T063000
LOCATION:Wachau\,Dürnstein
SUMMARY:3- Tages-Fahrt in die Wachau (A)
URL:https://waldverein-freyung.de/index.php?option=com_jem&view=event&id=40
 :3-tages-fahrt-in-die-wachau-a
END:VEVENT
END:VCALENDAR
