BEGIN:VCALENDAR
VERSION:2.0
PRODID:-//85.13.139.124//NONSGML kigkonsult.se iCalcreator 2.20//
CALSCALE:GREGORIAN
METHOD:PUBLISH
X-WR-TIMEZONE:Europe/Berlin
BEGIN:VEVENT
UID:event42@Bayerischer Wald-Verein, Sektion Freyung
DTSTAMP:20260420T144346Z
CATEGORIES:Jahresprogramm
DESCRIPTION:Saußbach\nKategorie: Jahresprogramm\nICS-Link: https://waldvere
 in-freyung.de/index.php?option=com_jem&view=event&id=42:saussbach\n
DTSTART;TZID=Europe/Berlin:20160925T123000
DTEND;TZID=Europe/Berlin:20160925T123000
LOCATION:Saußbachklamm\,94065 Waldkirchen
SUMMARY:Saußbach
URL:https://waldverein-freyung.de/index.php?option=com_jem&view=event&id=42
 :saussbach
END:VEVENT
END:VCALENDAR
