BEGIN:VCALENDAR
VERSION:2.0
PRODID:-//85.13.139.124//NONSGML kigkonsult.se iCalcreator 2.20//
CALSCALE:GREGORIAN
METHOD:PUBLISH
X-WR-TIMEZONE:Europe/Berlin
BEGIN:VEVENT
UID:event45@Bayerischer Wald-Verein, Sektion Freyung
DTSTAMP:20260420T132612Z
CATEGORIES:Jahresprogramm
DESCRIPTION:Wimmer Kanal\nKategorie: Jahresprogramm\nICS-Link: https://wald
 verein-freyung.de/index.php?option=com_jem&view=event&id=45:wimmer-kanal\n
DTSTART;TZID=Europe/Berlin:20161105T103000
DTEND;TZID=Europe/Berlin:20161105T103000
SUMMARY:Wimmer Kanal
URL:https://waldverein-freyung.de/index.php?option=com_jem&view=event&id=45
 :wimmer-kanal
END:VEVENT
END:VCALENDAR
