BEGIN:VCALENDAR
VERSION:2.0
PRODID:-//85.13.139.124//NONSGML kigkonsult.se iCalcreator 2.20//
CALSCALE:GREGORIAN
METHOD:PUBLISH
X-WR-TIMEZONE:Europe/Berlin
BEGIN:VEVENT
UID:event46@Bayerischer Wald-Verein, Sektion Freyung
DTSTAMP:20260420T131141Z
CATEGORIES:Jahresprogramm
DESCRIPTION:Lichtbilder-Vortrag\nKategorie: Jahresprogramm\nICS-Link: https
 ://waldverein-freyung.de/index.php?option=com_jem&view=event&id=46:lichtbi
 lder-vortrag\n
DTSTART;TZID=Europe/Berlin:20161111T200000
DTEND;TZID=Europe/Berlin:20161111T200000
SUMMARY:Lichtbilder-Vortrag
URL:https://waldverein-freyung.de/index.php?option=com_jem&view=event&id=46
 :lichtbilder-vortrag
END:VEVENT
END:VCALENDAR
