BEGIN:VCALENDAR
VERSION:2.0
PRODID:-//85.13.139.124//NONSGML kigkonsult.se iCalcreator 2.20//
CALSCALE:GREGORIAN
METHOD:PUBLISH
X-WR-TIMEZONE:Europe/Berlin
BEGIN:VEVENT
UID:event49@Bayerischer Wald-Verein, Sektion Freyung
DTSTAMP:20260420T132754Z
CATEGORIES:Jahresprogramm
DESCRIPTION:Adventsingen in Straubing\nKategorie: Jahresprogramm\nICS-Link:
  https://waldverein-freyung.de/index.php?option=com_jem&view=event&id=49:a
 dventsingen-in-straubing\n
DTSTART;VALUE=DATE:20161127
DTEND;VALUE=DATE:20161128
SUMMARY:Adventsingen in Straubing
URL:https://waldverein-freyung.de/index.php?option=com_jem&view=event&id=49
 :adventsingen-in-straubing
END:VEVENT
END:VCALENDAR
