BEGIN:VCALENDAR
VERSION:2.0
PRODID:-//85.13.139.124//NONSGML kigkonsult.se iCalcreator 2.20//
CALSCALE:GREGORIAN
METHOD:PUBLISH
X-WR-TIMEZONE:Europe/Berlin
BEGIN:VEVENT
UID:event5@Bayerischer Wald-Verein, Sektion Freyung
DTSTAMP:20260420T145910Z
CATEGORIES:Jahresprogramm
DESCRIPTION:Lichtenauer\nKategorie: Jahresprogramm\nICS-Link: https://waldv
 erein-freyung.de/index.php?option=com_jem&view=event&id=5:lichtenauer\n
DTSTART;TZID=Europe/Berlin:20150912T123000
DTEND;TZID=Europe/Berlin:20150912T123000
LOCATION:Lichtenau\,Lichtenau 1\,94051 Hauzenberg
SUMMARY:Lichtenauer
URL:https://waldverein-freyung.de/index.php?option=com_jem&view=event&id=5:
 lichtenauer
END:VEVENT
END:VCALENDAR
