BEGIN:VCALENDAR
VERSION:2.0
PRODID:-//85.13.139.124//NONSGML kigkonsult.se iCalcreator 2.20//
CALSCALE:GREGORIAN
METHOD:PUBLISH
X-WR-TIMEZONE:Europe/Berlin
BEGIN:VEVENT
UID:event55@Bayerischer Wald-Verein, Sektion Freyung
DTSTAMP:20260420T130633Z
CATEGORIES:Jahresprogramm
DESCRIPTION:Skiwanderung\nKategorie: Jahresprogramm\nICS-Link: https://wald
 verein-freyung.de/index.php?option=com_jem&view=event&id=55:skiwanderung\n
DTSTART;VALUE=DATE:20170205
DTEND;VALUE=DATE:20170206
SUMMARY:Skiwanderung
URL:https://waldverein-freyung.de/index.php?option=com_jem&view=event&id=55
 :skiwanderung
END:VEVENT
END:VCALENDAR
