BEGIN:VCALENDAR
VERSION:2.0
PRODID:-//85.13.139.124//NONSGML kigkonsult.se iCalcreator 2.20//
CALSCALE:GREGORIAN
METHOD:PUBLISH
X-WR-TIMEZONE:Europe/Berlin
BEGIN:VEVENT
UID:event56@Bayerischer Wald-Verein, Sektion Freyung
DTSTAMP:20260422T085149Z
CATEGORIES:Jahresprogramm
DESCRIPTION:Skiwanderung\nKategorie: Jahresprogramm\nICS-Link: https://wald
 verein-freyung.de/index.php?option=com_jem&view=event&id=56:skiwanderung\n
DTSTART;VALUE=DATE:20170218
DTEND;VALUE=DATE:20170219
SUMMARY:Skiwanderung
URL:https://waldverein-freyung.de/index.php?option=com_jem&view=event&id=56
 :skiwanderung
END:VEVENT
END:VCALENDAR
