BEGIN:VCALENDAR
VERSION:2.0
PRODID:-//85.13.139.124//NONSGML kigkonsult.se iCalcreator 2.20//
CALSCALE:GREGORIAN
METHOD:PUBLISH
X-WR-TIMEZONE:Europe/Berlin
BEGIN:VEVENT
UID:event58@Bayerischer Wald-Verein, Sektion Freyung
DTSTAMP:20260422T085157Z
CATEGORIES:Jahresprogramm
DESCRIPTION:Aschermittwoch\nKategorie: Jahresprogramm\nICS-Link: https://wa
 ldverein-freyung.de/index.php?option=com_jem&view=event&id=58:aschermittwo
 ch\n
DTSTART;TZID=Europe/Berlin:20170301T090000
DTEND;TZID=Europe/Berlin:20170301T090000
SUMMARY:Aschermittwoch
URL:https://waldverein-freyung.de/index.php?option=com_jem&view=event&id=58
 :aschermittwoch
END:VEVENT
END:VCALENDAR
