BEGIN:VCALENDAR
VERSION:2.0
PRODID:-//85.13.139.124//NONSGML kigkonsult.se iCalcreator 2.20//
CALSCALE:GREGORIAN
METHOD:PUBLISH
X-WR-TIMEZONE:Europe/Berlin
BEGIN:VEVENT
UID:event59@Bayerischer Wald-Verein, Sektion Freyung
DTSTAMP:20260420T132957Z
CATEGORIES:Jahresprogramm
DESCRIPTION:Abend-Schneeschuhwanderung „Rund um den Steinberg“ (Mauth)\nKat
 egorie: Jahresprogramm\nICS-Link: https://waldverein-freyung.de/index.php?
 option=com_jem&view=event&id=59:abend-schneeschuhwanderung-rund-um-den-ste
 inberg-mauth\n
DTSTART;TZID=Europe/Berlin:20170303T153000
DTEND;TZID=Europe/Berlin:20170303T153000
LOCATION:Mauth\,Mauth
SUMMARY:Abend-Schneeschuhwanderung „Rund um den Steinberg“ (Mauth)
URL:https://waldverein-freyung.de/index.php?option=com_jem&view=event&id=59
 :abend-schneeschuhwanderung-rund-um-den-steinberg-mauth
END:VEVENT
END:VCALENDAR
