BEGIN:VCALENDAR
VERSION:2.0
PRODID:-//85.13.139.124//NONSGML kigkonsult.se iCalcreator 2.20//
CALSCALE:GREGORIAN
METHOD:PUBLISH
X-WR-TIMEZONE:Europe/Berlin
BEGIN:VEVENT
UID:event6@Bayerischer Wald-Verein, Sektion Freyung
DTSTAMP:20260420T164407Z
CATEGORIES:Jahresprogramm
DESCRIPTION:Zachenberger Steinbruchweg\nKategorie: Jahresprogramm\nICS-Link
 : https://waldverein-freyung.de/index.php?option=com_jem&view=event&id=6:z
 achenberger-steinbruchweg\n
DTSTART;TZID=Europe/Berlin:20150926T100000
DTEND;TZID=Europe/Berlin:20150926T100000
LOCATION:Zachenberg\,Zachenberg
SUMMARY:Zachenberger Steinbruchweg
URL:https://waldverein-freyung.de/index.php?option=com_jem&view=event&id=6:
 zachenberger-steinbruchweg
END:VEVENT
END:VCALENDAR
