BEGIN:VCALENDAR
VERSION:2.0
PRODID:-//85.13.139.124//NONSGML kigkonsult.se iCalcreator 2.20//
CALSCALE:GREGORIAN
METHOD:PUBLISH
X-WR-TIMEZONE:Europe/Berlin
BEGIN:VEVENT
UID:event64@Bayerischer Wald-Verein, Sektion Freyung
DTSTAMP:20260420T150919Z
CATEGORIES:Jahresprogramm
DESCRIPTION:Kultur und Frühlingsfahrt\nKategorie: Jahresprogramm\nICS-Link:
  https://waldverein-freyung.de/index.php?option=com_jem&view=event&id=64:k
 ultur-und-fruehlingsfahrt\n
DTSTART;TZID=Europe/Berlin:20170430T073000
DTEND;TZID=Europe/Berlin:20170430T073000
LOCATION:Ingolstadt\,Ingolstadt
SUMMARY:Kultur und Frühlingsfahrt
URL:https://waldverein-freyung.de/index.php?option=com_jem&view=event&id=64
 :kultur-und-fruehlingsfahrt
END:VEVENT
END:VCALENDAR
