BEGIN:VCALENDAR
VERSION:2.0
PRODID:-//85.13.139.124//NONSGML kigkonsult.se iCalcreator 2.20//
CALSCALE:GREGORIAN
METHOD:PUBLISH
X-WR-TIMEZONE:Europe/Berlin
BEGIN:VEVENT
UID:event66@Bayerischer Wald-Verein, Sektion Freyung
DTSTAMP:20260420T132604Z
CATEGORIES:Jahresprogramm
DESCRIPTION:Unterlichtbuchet\nKategorie: Jahresprogramm\nICS-Link: https://
 waldverein-freyung.de/index.php?option=com_jem&view=event&id=66:unterlicht
 buchet\n
DTSTART;TZID=Europe/Berlin:20170506T123000
DTEND;TZID=Europe/Berlin:20170506T123000
LOCATION:Unterlichtbuchet\,94158 Philippsreut
SUMMARY:Unterlichtbuchet
URL:https://waldverein-freyung.de/index.php?option=com_jem&view=event&id=66
 :unterlichtbuchet
END:VEVENT
END:VCALENDAR
