BEGIN:VCALENDAR
VERSION:2.0
PRODID:-//85.13.139.124//NONSGML kigkonsult.se iCalcreator 2.20//
CALSCALE:GREGORIAN
METHOD:PUBLISH
X-WR-TIMEZONE:Europe/Berlin
BEGIN:VEVENT
UID:event67@Bayerischer Wald-Verein, Sektion Freyung
DTSTAMP:20260420T133415Z
CATEGORIES:Jahresprogramm
DESCRIPTION:Kloster Hohenfurt (CZ)\nKategorie: Jahresprogramm\nICS-Link: ht
 tps://waldverein-freyung.de/index.php?option=com_jem&view=event&id=67:klos
 ter-hohenfurt-cz\n
DTSTART;TZID=Europe/Berlin:20170520T090000
DTEND;TZID=Europe/Berlin:20170520T090000
LOCATION:Cisterciácké opatství Vyšší Brod\,Klášter 137\,382 73 Vyšší Brod
SUMMARY:Kloster Hohenfurt (CZ)
URL:https://waldverein-freyung.de/index.php?option=com_jem&view=event&id=67
 :kloster-hohenfurt-cz
END:VEVENT
END:VCALENDAR
