BEGIN:VCALENDAR
VERSION:2.0
PRODID:-//85.13.139.124//NONSGML kigkonsult.se iCalcreator 2.20//
CALSCALE:GREGORIAN
METHOD:PUBLISH
X-WR-TIMEZONE:Europe/Berlin
BEGIN:VEVENT
UID:event68@Bayerischer Wald-Verein, Sektion Freyung
DTSTAMP:20260420T132812Z
CATEGORIES:Jahresprogramm
DESCRIPTION:Wanderung: Klosterfilz\nKategorie: Jahresprogramm\nICS-Link: ht
 tps://waldverein-freyung.de/index.php?option=com_jem&view=event&id=68:wand
 erung-klosterfilz\n
DTSTART;TZID=Europe/Berlin:20170528T123000
DTEND;TZID=Europe/Berlin:20170528T123000
LOCATION:Sankt Oswald-Riedlhütte\,Sankt Oswald-Riedlhütte
SUMMARY:Wanderung: Klosterfilz
URL:https://waldverein-freyung.de/index.php?option=com_jem&view=event&id=68
 :wanderung-klosterfilz
END:VEVENT
END:VCALENDAR
