BEGIN:VCALENDAR
VERSION:2.0
PRODID:-//85.13.139.124//NONSGML kigkonsult.se iCalcreator 2.20//
CALSCALE:GREGORIAN
METHOD:PUBLISH
X-WR-TIMEZONE:Europe/Berlin
BEGIN:VEVENT
UID:event7@Bayerischer Wald-Verein, Sektion Freyung
DTSTAMP:20260420T133552Z
CATEGORIES:Jahresprogramm
DESCRIPTION:Schönecker Aussichtsturm bei Langdorf\nKategorie: Jahresprogram
 m\nICS-Link: https://waldverein-freyung.de/index.php?option=com_jem&view=e
 vent&id=7:schoenecker-aussichtsturm-bei-langdorf\n
DTSTART;TZID=Europe/Berlin:20151004T090000
DTEND;TZID=Europe/Berlin:20151004T090000
LOCATION:Langdorf\,Langdorf
SUMMARY:Schönecker Aussichtsturm bei Langdorf
URL:https://waldverein-freyung.de/index.php?option=com_jem&view=event&id=7:
 schoenecker-aussichtsturm-bei-langdorf
END:VEVENT
END:VCALENDAR
