BEGIN:VCALENDAR
VERSION:2.0
PRODID:-//85.13.139.124//NONSGML kigkonsult.se iCalcreator 2.20//
CALSCALE:GREGORIAN
METHOD:PUBLISH
X-WR-TIMEZONE:Europe/Berlin
BEGIN:VEVENT
UID:event70@Bayerischer Wald-Verein, Sektion Freyung
DTSTAMP:20260420T134519Z
CATEGORIES:Jahresprogramm
DESCRIPTION:Wanderung auf dem Frauenauer Kapellenweg\nKategorie: Jahresprog
 ramm\nICS-Link: https://waldverein-freyung.de/index.php?option=com_jem&vie
 w=event&id=70:wanderung-auf-dem-frauenauer-kapellenweg\n
DTSTART;TZID=Europe/Berlin:20170617T095000
DTEND;TZID=Europe/Berlin:20170617T095000
SUMMARY:Wanderung auf dem Frauenauer Kapellenweg
URL:https://waldverein-freyung.de/index.php?option=com_jem&view=event&id=70
 :wanderung-auf-dem-frauenauer-kapellenweg
END:VEVENT
END:VCALENDAR
