BEGIN:VCALENDAR
VERSION:2.0
PRODID:-//85.13.139.124//NONSGML kigkonsult.se iCalcreator 2.20//
CALSCALE:GREGORIAN
METHOD:PUBLISH
X-WR-TIMEZONE:Europe/Berlin
BEGIN:VEVENT
UID:event71@Bayerischer Wald-Verein, Sektion Freyung
DTSTAMP:20260420T144713Z
CATEGORIES:Jahresprogramm
DESCRIPTION:Volksfestauftakt\nKategorie: Jahresprogramm\nICS-Link: https://
 waldverein-freyung.de/index.php?option=com_jem&view=event&id=71:volksfesta
 uftakt\n
DTSTART;VALUE=DATE:20170630
DTEND;VALUE=DATE:20170701
SUMMARY:Volksfestauftakt
URL:https://waldverein-freyung.de/index.php?option=com_jem&view=event&id=71
 :volksfestauftakt
END:VEVENT
END:VCALENDAR
