BEGIN:VCALENDAR
VERSION:2.0
PRODID:-//85.13.139.124//NONSGML kigkonsult.se iCalcreator 2.20//
CALSCALE:GREGORIAN
METHOD:PUBLISH
X-WR-TIMEZONE:Europe/Berlin
BEGIN:VEVENT
UID:event73@Bayerischer Wald-Verein, Sektion Freyung
DTSTAMP:20260420T150802Z
CATEGORIES:Jahresprogramm
DESCRIPTION:Pilgerweg Via Nova\nKategorie: Jahresprogramm\nICS-Link: https:
 //waldverein-freyung.de/index.php?option=com_jem&view=event&id=73:pilgerwe
 g-via-nova\n
DTSTART;TZID=Europe/Berlin:20170709T102500
DTEND;TZID=Europe/Berlin:20170709T102500
LOCATION:Mauth Schustersäge\,Mauth
SUMMARY:Pilgerweg Via Nova
URL:https://waldverein-freyung.de/index.php?option=com_jem&view=event&id=73
 :pilgerweg-via-nova
END:VEVENT
END:VCALENDAR
