BEGIN:VCALENDAR
VERSION:2.0
PRODID:-//85.13.139.124//NONSGML kigkonsult.se iCalcreator 2.20//
CALSCALE:GREGORIAN
METHOD:PUBLISH
X-WR-TIMEZONE:Europe/Berlin
BEGIN:VEVENT
UID:event8@Bayerischer Wald-Verein, Sektion Freyung
DTSTAMP:20260422T102716Z
CATEGORIES:Jahresprogramm
DESCRIPTION:Kirchweih-Montag\nKategorie: Jahresprogramm\nICS-Link: https://
 waldverein-freyung.de/index.php?option=com_jem&view=event&id=8:kirchweih-m
 ontag\n
DTSTART;TZID=Europe/Berlin:20151019T130000
DTEND;TZID=Europe/Berlin:20151019T130000
SUMMARY:Kirchweih-Montag
URL:https://waldverein-freyung.de/index.php?option=com_jem&view=event&id=8:
 kirchweih-montag
END:VEVENT
END:VCALENDAR
