BEGIN:VCALENDAR
VERSION:2.0
PRODID:-//85.13.139.124//NONSGML kigkonsult.se iCalcreator 2.20//
CALSCALE:GREGORIAN
METHOD:PUBLISH
X-WR-TIMEZONE:Europe/Berlin
BEGIN:VEVENT
UID:event80@Bayerischer Wald-Verein, Sektion Freyung
DTSTAMP:20260420T145406Z
CATEGORIES:Jahresprogramm
DESCRIPTION:Info\nKategorie: Jahresprogramm\nICS-Link: https://waldverein-f
 reyung.de/index.php?option=com_jem&view=event&id=80:info\n
DTSTART;TZID=Europe/Berlin:20170820T103000
DTEND;TZID=Europe/Berlin:20170820T103000
LOCATION:Arber\,94252 Bayerisch Eisenstein
SUMMARY:Info
URL:https://waldverein-freyung.de/index.php?option=com_jem&view=event&id=80
 :info
END:VEVENT
END:VCALENDAR
