BEGIN:VCALENDAR
VERSION:2.0
PRODID:-//85.13.139.124//NONSGML kigkonsult.se iCalcreator 2.20//
CALSCALE:GREGORIAN
METHOD:PUBLISH
X-WR-TIMEZONE:Europe/Berlin
BEGIN:VEVENT
UID:event81@Bayerischer Wald-Verein, Sektion Freyung
DTSTAMP:20260420T132832Z
CATEGORIES:Jahresprogramm
DESCRIPTION:3-Tages-Fahrt\nKategorie: Jahresprogramm\nICS-Link: https://wal
 dverein-freyung.de/index.php?option=com_jem&view=event&id=81:3-tages-fahrt
 \n
DTSTART;TZID=Europe/Berlin:20170908T063000
DTEND;TZID=Europe/Berlin:20170910T063000
LOCATION:Tannheimer Tal\,6675
SUMMARY:3-Tages-Fahrt
URL:https://waldverein-freyung.de/index.php?option=com_jem&view=event&id=81
 :3-tages-fahrt
END:VEVENT
END:VCALENDAR
