BEGIN:VCALENDAR
VERSION:2.0
PRODID:-//85.13.139.124//NONSGML kigkonsult.se iCalcreator 2.20//
CALSCALE:GREGORIAN
METHOD:PUBLISH
X-WR-TIMEZONE:Europe/Berlin
BEGIN:VEVENT
UID:event82@Bayerischer Wald-Verein, Sektion Freyung
DTSTAMP:20260420T162021Z
CATEGORIES:Jahresprogramm
DESCRIPTION:Rieslochfälle\nKategorie: Jahresprogramm\nICS-Link: https://wal
 dverein-freyung.de/index.php?option=com_jem&view=event&id=82:rieslochfaell
 e\n
DTSTART;TZID=Europe/Berlin:20170924T090000
DTEND;TZID=Europe/Berlin:20170924T090000
LOCATION:Bodenmais\,Bodenmais
SUMMARY:Rieslochfälle
URL:https://waldverein-freyung.de/index.php?option=com_jem&view=event&id=82
 :rieslochfaelle
END:VEVENT
END:VCALENDAR
