BEGIN:VCALENDAR
VERSION:2.0
PRODID:-//85.13.139.124//NONSGML kigkonsult.se iCalcreator 2.20//
CALSCALE:GREGORIAN
METHOD:PUBLISH
X-WR-TIMEZONE:Europe/Berlin
BEGIN:VEVENT
UID:event85@Bayerischer Wald-Verein, Sektion Freyung
DTSTAMP:20260420T132713Z
CATEGORIES:Jahresprogramm
DESCRIPTION:Rachel - Lusen\nKategorie: Jahresprogramm\nICS-Link: https://wa
 ldverein-freyung.de/index.php?option=com_jem&view=event&id=85:rachel-lusen
 \n
DTSTART;TZID=Europe/Berlin:20171014T080000
DTEND;TZID=Europe/Berlin:20171014T080000
LOCATION:Lusen\,94078 Neuschönau
SUMMARY:Rachel - Lusen
URL:https://waldverein-freyung.de/index.php?option=com_jem&view=event&id=85
 :rachel-lusen
END:VEVENT
END:VCALENDAR
