BEGIN:VCALENDAR
VERSION:2.0
PRODID:-//85.13.139.124//NONSGML kigkonsult.se iCalcreator 2.20//
CALSCALE:GREGORIAN
METHOD:PUBLISH
X-WR-TIMEZONE:Europe/Berlin
BEGIN:VEVENT
UID:event87@Bayerischer Wald-Verein, Sektion Freyung
DTSTAMP:20260422T102538Z
CATEGORIES:Jahresprogramm
DESCRIPTION:Lichtbildervortrag\nKategorie: Jahresprogramm\nICS-Link: https:
 //waldverein-freyung.de/index.php?option=com_jem&view=event&id=87:lichtbil
 dervortrag\n
DTSTART;TZID=Europe/Berlin:20171117T200000
DTEND;TZID=Europe/Berlin:20171117T200000
SUMMARY:Lichtbildervortrag
URL:https://waldverein-freyung.de/index.php?option=com_jem&view=event&id=87
 :lichtbildervortrag
END:VEVENT
END:VCALENDAR
