BEGIN:VCALENDAR
VERSION:2.0
PRODID:-//85.13.139.124//NONSGML kigkonsult.se iCalcreator 2.20//
CALSCALE:GREGORIAN
METHOD:PUBLISH
X-WR-TIMEZONE:Europe/Berlin
BEGIN:VEVENT
UID:event95@Bayerischer Wald-Verein, Sektion Freyung
DTSTAMP:20260420T162737Z
CATEGORIES:Jahresprogramm
DESCRIPTION:Rosenmontag: Schneeschuhwanderung\nKategorie: Jahresprogramm\nI
 CS-Link: https://waldverein-freyung.de/index.php?option=com_jem&view=event
 &id=95:rosenmontag-schneeschuhwanderung\n
DTSTART;TZID=Europe/Berlin:20180212T100000
DTEND;TZID=Europe/Berlin:20180212T100000
LOCATION:Klausgupf\,Klausgupfweg 9\,94089 Neureichenau
SUMMARY:Rosenmontag: Schneeschuhwanderung
URL:https://waldverein-freyung.de/index.php?option=com_jem&view=event&id=95
 :rosenmontag-schneeschuhwanderung
END:VEVENT
END:VCALENDAR
