BEGIN:VCALENDAR
VERSION:2.0
PRODID:-//85.13.139.124//NONSGML kigkonsult.se iCalcreator 2.20//
CALSCALE:GREGORIAN
METHOD:PUBLISH
X-WR-TIMEZONE:Europe/Berlin
BEGIN:VEVENT
UID:event97@Bayerischer Wald-Verein, Sektion Freyung
DTSTAMP:20260420T144825Z
CATEGORIES:Jahresprogramm
DESCRIPTION:Schneeschuhwanderung auf den Dreisessel\nKategorie: Jahresprogr
 amm\nICS-Link: https://waldverein-freyung.de/index.php?option=com_jem&view
 =event&id=97:schneeschuhwanderung-auf-den-dreisessel\n
DTSTART;TZID=Europe/Berlin:20180216T100000
DTEND;TZID=Europe/Berlin:20180216T100000
LOCATION:Dreisessel\,94089 Pleckensteiner Wald
SUMMARY:Schneeschuhwanderung auf den Dreisessel
URL:https://waldverein-freyung.de/index.php?option=com_jem&view=event&id=97
 :schneeschuhwanderung-auf-den-dreisessel
END:VEVENT
END:VCALENDAR
